BEGIN:VCALENDAR
VERSION:2.0
PRODID:-//Tauchschule Walter - ECPv6.11.2.1//NONSGML v1.0//EN
CALSCALE:GREGORIAN
METHOD:PUBLISH
X-WR-CALNAME:Tauchschule Walter
X-ORIGINAL-URL:https://tauchschule-walter.com
X-WR-CALDESC:Veranstaltungen für Tauchschule Walter
REFRESH-INTERVAL;VALUE=DURATION:PT1H
X-Robots-Tag:noindex
X-PUBLISHED-TTL:PT1H
BEGIN:VTIMEZONE
TZID:Europe/Paris
BEGIN:DAYLIGHT
TZOFFSETFROM:+0100
TZOFFSETTO:+0200
TZNAME:CEST
DTSTART:20220327T010000
END:DAYLIGHT
BEGIN:STANDARD
TZOFFSETFROM:+0200
TZOFFSETTO:+0100
TZNAME:CET
DTSTART:20221030T010000
END:STANDARD
END:VTIMEZONE
BEGIN:VEVENT
DTSTART;TZID=Europe/Paris:20220426T183000
DTEND;TZID=Europe/Paris:20220426T203000
DTSTAMP:20260421T223750
CREATED:20200109T162601Z
LAST-MODIFIED:20220323T204717Z
UID:712-1650997800-1651005000@tauchschule-walter.com
SUMMARY:Auffrischungskurs
DESCRIPTION:Du hast einen Tauchschein und warst länger mehr nicht tauchen und möchtest deine Kenntnisse wieder auffrischen. Sei es für den nächsten Urlaub oder weil du einfach einen Spaßtauchgang machen möchtest. Dann ist ein Auffrischungskurs genau das richtige. \nIm Hallenbad werden die grundlegenden Fertigkeiten geübt:\n– Kurze Wiederholung der Tauchtheorie\n– Zusammenbau der Ausrüstung\n– 2x Tauchgang im Hallenbad\n– Demontieren der Ausrüstung
URL:https://tauchschule-walter.com/event/auffrischungskurs/
LOCATION:Tauchschule Walter\, Johannesstrasse 107\, Bottrop\, 46238\, Deutschland
CATEGORIES:Auffrischungskurs
ORGANIZER;CN="Andreas Walter":MAILTO:info@tauchschule-walter.de
END:VEVENT
END:VCALENDAR