BEGIN:VCALENDAR
VERSION:2.0
PRODID:-//Tauchschule Walter - ECPv6.11.2.1//NONSGML v1.0//EN
CALSCALE:GREGORIAN
METHOD:PUBLISH
X-ORIGINAL-URL:https://tauchschule-walter.com
X-WR-CALDESC:Veranstaltungen für Tauchschule Walter
REFRESH-INTERVAL;VALUE=DURATION:PT1H
X-Robots-Tag:noindex
X-PUBLISHED-TTL:PT1H
BEGIN:VTIMEZONE
TZID:Europe/Paris
BEGIN:DAYLIGHT
TZOFFSETFROM:+0100
TZOFFSETTO:+0200
TZNAME:CEST
DTSTART:20230326T010000
END:DAYLIGHT
BEGIN:STANDARD
TZOFFSETFROM:+0200
TZOFFSETTO:+0100
TZNAME:CET
DTSTART:20231029T010000
END:STANDARD
END:VTIMEZONE
BEGIN:VEVENT
DTSTART;TZID=Europe/Paris:20231002T183000
DTEND;TZID=Europe/Paris:20231002T213000
DTSTAMP:20260420T064412
CREATED:20200203T131230Z
LAST-MODIFIED:20230915T101950Z
UID:910-1696271400-1696282200@tauchschule-walter.com
SUMMARY:HLW / O2 Kurs
DESCRIPTION:Der HLW/O2 Kurs ist der Einführungskurs in die Tauchrettung. In diesem Kurs lernst du die wichtigsten Dinge der Erstversorgung und wie du rasch in einem Notfall helfen kannst. Außerdem wird der Gebrauch von Notfallkoffern und Sauerstoffsystemen erklärt.
URL:https://tauchschule-walter.com/event/hlw-o2-kurs/
LOCATION:Tauchschule Walter\, Johannesstrasse 107\, Bottrop\, 46238\, Deutschland
CATEGORIES:HLW / O2 Kurs
ORGANIZER;CN="Andreas Walter":MAILTO:info@tauchschule-walter.de
END:VEVENT
BEGIN:VEVENT
DTSTART;TZID=Europe/Paris:20231004T183000
DTEND;TZID=Europe/Paris:20231004T210000
DTSTAMP:20260420T064412
CREATED:20230613T143413Z
LAST-MODIFIED:20230915T102915Z
UID:1995-1696444200-1696453200@tauchschule-walter.com
SUMMARY:SK-Tieftauchen
DESCRIPTION:In dem Spezialkurs Tieftauchen werden dir die Inhalte des Tieftauchens vermittelt und durch gezielte praktische Übungen untermauert. Bei der Durchführung der entsprechenden Tauchgänge hast Du die Gelegenheit\, diese Kenntnisse unter Anleitung anzuwenden und entsprechende Tieftaucherfahrung zu sammeln.
URL:https://tauchschule-walter.com/event/sk-tieftauchen/
LOCATION:Tauchschule Walter\, Johannesstrasse 107\, Bottrop\, 46238\, Deutschland
ORGANIZER;CN="Andreas Walter":MAILTO:info@tauchschule-walter.de
END:VEVENT
BEGIN:VEVENT
DTSTART;TZID=Europe/Paris:20231007T100000
DTEND;TZID=Europe/Paris:20231007T170000
DTSTAMP:20260420T064412
CREATED:20200105T181907Z
LAST-MODIFIED:20230915T102849Z
UID:912-1696672800-1696698000@tauchschule-walter.com
SUMMARY:i.a.c. Scuba Instructor / TL Assistent Kurs
DESCRIPTION:Praktische wie auch theoretische Inhalte werden von deinem Dive Leader/CMAS*** Kurs aufgegriffen und vertieft. Dabei werden dir wichtige Hintergrundinfos vermittelt.\nEin umfassender Teil der Ausbildung beschäftigt sich mit der Präsentation von Ausbildungsinhalten. So lernst du wie du deinem Schüler die einzelnen Bestandteile des Tauchen schnell und einfach vermittelst.\nDie Praxis befasst sich zunächst mit der Planung und Strukturierung von Tauchkursen. Welches Equipment eignet sich für die Ausbildung? Wie sind die Anforderungen an Ausbildungsgewässer? Das sind nur zwei von vielen Fragen die vor Beginn eines Kurse geklärt werden müssen. Wir zeigen dir auf was es ankommt und wie du Probleme und Schwierigkeiten erkennen kannst bevor sie auftreten.\nDauer und Abschluss:\nNach erfolgreicher theoretischer Prüfung und positiver Beurteilung bekommst du den Status eines i.a.c. Scuba Instructor / Tauchlehrer-Assistenten. Damit kannst du dich direkt zur nächst möglichen Tauchlehrer-Prüfung/ Tauchlehrer-Qualifikation anmelden.\nAls Basic Instructor bist du berechtigt folgende Kurse zu unterrichten:\n-Schnorchelbrevets\n-DSD – Discover Scuba Diving / Schnuppertauchen\n-Pool Diver\n-Basic Diver\nDer i.a.c. Scuba Instructor zu dem berechtigt an der Ausbildung aller i.a.c. – Leistungsstufen und Spezialkurse teilnehmen und dem Tauchlehrer assistieren.\nWeitere Informationen wie Dauer und folge Termine auf Anfrage.
URL:https://tauchschule-walter.com/event/i-a-c-scuba-instructor-tl-assistent-kurs-2/
LOCATION:Tauchschule Walter\, Johannesstrasse 107\, Bottrop\, 46238\, Deutschland
CATEGORIES:i.a.c. Scuba Instructor / TL Assistent Kurs
END:VEVENT
BEGIN:VEVENT
DTSTART;TZID=Europe/Paris:20231010T183000
DTEND;TZID=Europe/Paris:20231010T210000
DTSTAMP:20260420T064412
CREATED:20200105T181541Z
LAST-MODIFIED:20230915T102802Z
UID:429-1696962600-1696971600@tauchschule-walter.com
SUMMARY:Beginnerkurs OWD / CMAS*
DESCRIPTION:Alles beginnt mit dem Anfängerkurs\, wie z. B. dem Open Water Diver oder dem CMAS* Kurs. Hier lernst du alle wichtigen Grundbegriffe und Regeln rund um das Tauchen. Dazu gehören unter anderem folgende Punkte:\n„Was gehört zu einer Tauchausrüstung und wie wird diese benutzt?\n„Was muss man vor und nach dem Tauchen beachten?“\n„Wie verständige ich mich unter Wasser?“
URL:https://tauchschule-walter.com/event/beginnerkurs-owd-cmas/
LOCATION:Tauchschule Walter\, Johannesstrasse 107\, Bottrop\, 46238\, Deutschland
CATEGORIES:Beginnerkurs OWD / CMAS*
ORGANIZER;CN="Andreas Walter":MAILTO:info@tauchschule-walter.de
END:VEVENT
BEGIN:VEVENT
DTSTART;TZID=Europe/Paris:20231012T183000
DTEND;TZID=Europe/Paris:20231012T210000
DTSTAMP:20260420T064412
CREATED:20200105T183154Z
LAST-MODIFIED:20230915T102117Z
UID:442-1697135400-1697144400@tauchschule-walter.com
SUMMARY:SK-Orientierung
DESCRIPTION:Der Spezialkurs „Orientierung“ ist einer der beliebtesten Spezialkurse. In diesem Kurs lernt Ihr in Theorie & Praxis das Navigieren unter Wasser mit Hilfe von Kompass und natürlicher Navigation. Um an diesem Spezialkurs teilnehmen zu können\, müsst Ihr bereits 14 Jahre alt und min. Open Water Diver/CMAS* sein. Nach diesem Kurs erhaltet Ihr das international anerkannte i.a.c. Brevet. Außerdem ist der Kurs bestandteil des Advanced-Open-Water-Diver Kurses.\nDer Kurs besteht aus ca. 2 Stunden Theorieunterricht in den Räumlichkeiten unserer Tauchschule und mindestens 2 Freiwassertauchgänge im See.
URL:https://tauchschule-walter.com/event/sk-orientierung/
LOCATION:Tauchschule Walter\, Johannesstrasse 107\, Bottrop\, 46238\, Deutschland
CATEGORIES:SK-Orientierung
ORGANIZER;CN="Andreas Walter":MAILTO:info@tauchschule-walter.de
END:VEVENT
BEGIN:VEVENT
DTSTART;VALUE=DATE:20231014
DTEND;VALUE=DATE:20231016
DTSTAMP:20260420T064412
CREATED:20200105T183540Z
LAST-MODIFIED:20230915T102727Z
UID:1360-1697241600-1697414399@tauchschule-walter.com
SUMMARY:Crossover Seminar TL*/TL**
DESCRIPTION:Das Crossover Seminar vom i.a.c. bietet ausgebildete Tauchlehrer anderer Organisationen die Möglichkeit zum Quereinstieg in das i.a.c. System. Die nach dem Crossover stattfindende Einstufung zu den verschiedenen Tauchlehrerstufen\, erfolgt in erster Linie anhand der nachgewiesenen Kenntnisse\, Fertigkeiten und Kompetenzen. Ansprüche auf die Einstufung zu einer bestimmten Leistungsstufe als Tauchlehrer können nicht geltend gemacht werden.
URL:https://tauchschule-walter.com/event/crossover-seminar-tl-tl-2-4/
LOCATION:Tauchschule Walter\, Johannesstrasse 107\, Bottrop\, 46238\, Deutschland
CATEGORIES:Crossover Seminar TL*/TL**
ORGANIZER;CN="Andreas Walter":MAILTO:info@tauchschule-walter.de
END:VEVENT
BEGIN:VEVENT
DTSTART;TZID=Europe/Paris:20231016T183000
DTEND;TZID=Europe/Paris:20231016T210000
DTSTAMP:20260420T064412
CREATED:20200203T134837Z
LAST-MODIFIED:20230915T102025Z
UID:917-1697481000-1697490000@tauchschule-walter.com
SUMMARY:SK-Gruppenführung
DESCRIPTION:Der SK-Gruppenführung vermittelt die Kenntnisse\, die zum selbständigen Führen einer Tauchgruppe erforderlich sind.\nTheoretische Ausbildung: Elemente der Gruppenführung\, Kommunikation in der Gruppe\, Eingehen auf die Gruppenteilnehmer und diese einschätzen\, Briefing und Nachbriefing\, Beobachten\, entscheiden & reagieren bei Zwischenfällen usw.\nPraktische Ausbildung: Organisation der Tauchgruppe\, Durchführung der Briefings\, Verantwortung für die Gruppe tragen\, Kennenlernen und Beobachten der Gruppe\, Entscheidungen treffen und umsetzen\, Boje setzen usw. \nVoraussetzungen:\n•Nachweis von einem OWD Brevet\n•Mind. 14 Jahre alt\n•Nachweis über den Gesundheitszustand\n•Nachweis vom Specialty Navigation
URL:https://tauchschule-walter.com/event/sk-gruppenfuehrung-2/
LOCATION:Tauchschule Walter\, Johannesstrasse 107\, Bottrop\, 46238\, Deutschland
CATEGORIES:SK-Gruppenführung
ORGANIZER;CN="Andreas Walter":MAILTO:info@tauchschule-walter.de
END:VEVENT
BEGIN:VEVENT
DTSTART;TZID=Europe/Paris:20231019T183000
DTEND;TZID=Europe/Paris:20231019T210000
DTSTAMP:20260420T064412
CREATED:20210228T174905Z
LAST-MODIFIED:20230915T102651Z
UID:1357-1697740200-1697749200@tauchschule-walter.com
SUMMARY:AOWD / CMAS** Kurs
DESCRIPTION:Der AOWD ist nach deinem Open Water Diver / CMAS* die ideale Weiterbildung zum fortgeschrittenen Taucher. Die in diesem Kurs enthaltenen Spezialbrevets: * Orientierung * Tieftauchen und einem weiteren SK nach Wahl. Mit dem AOWD schlägst du zwei Fliegen mit einer Klappe: Du weist dich als fortgeschrittener Taucher aus und du hast die erste Hürde zum Master Diver oder CMAS** absolviert.
URL:https://tauchschule-walter.com/event/aowd-cmas-2/
LOCATION:Tauchschule Walter\, Johannesstrasse 107\, Bottrop\, 46238\, Deutschland
CATEGORIES:AOWD / CMAS** Kurs
ORGANIZER;CN="Andreas Walter":MAILTO:info@tauchschule-walter.de
END:VEVENT
BEGIN:VEVENT
DTSTART;TZID=Europe/Paris:20231027T180000
DTEND;TZID=Europe/Paris:20231027T210000
DTSTAMP:20260420T064412
CREATED:20200105T181055Z
LAST-MODIFIED:20230915T101632Z
UID:1358-1698429600-1698440400@tauchschule-walter.com
SUMMARY:Dive Leader / CMAS*** Kurs
DESCRIPTION:Der CMAS*** oder der i.a.c.-Dive Leader ist die höchste Stufe als Sporttaucher und das “Sprungbrett” zum Tauchlehrer. Diese Ausbildungsstufe berechtigt zum Tauchen mit Beginnern. Daher übernimmst du mit dem Dive Leader bereits ein hohes Maß an Verantwortung und du bist ein Bindeglied zwischen Tauchlehrer und Tauchschüler. Um diese Qualifikation zu erreichen sind der Spezialkurs Tauchsicherheit + Rettung und Nachttauchen erforderlich.
URL:https://tauchschule-walter.com/event/dive-leader-cmas-kurs-2-2/
LOCATION:Tauchschule Walter\, Johannesstrasse 107\, Bottrop\, 46238\, Deutschland
CATEGORIES:Dive Leader / CMAS*** Kurs
END:VEVENT
END:VCALENDAR