BEGIN:VCALENDAR
VERSION:2.0
PRODID:-//Tauchschule Walter - ECPv6.11.2.1//NONSGML v1.0//EN
CALSCALE:GREGORIAN
METHOD:PUBLISH
X-WR-CALNAME:Tauchschule Walter
X-ORIGINAL-URL:https://tauchschule-walter.com
X-WR-CALDESC:Veranstaltungen für Tauchschule Walter
REFRESH-INTERVAL;VALUE=DURATION:PT1H
X-Robots-Tag:noindex
X-PUBLISHED-TTL:PT1H
BEGIN:VTIMEZONE
TZID:Europe/Paris
BEGIN:DAYLIGHT
TZOFFSETFROM:+0100
TZOFFSETTO:+0200
TZNAME:CEST
DTSTART:20230326T010000
END:DAYLIGHT
BEGIN:STANDARD
TZOFFSETFROM:+0200
TZOFFSETTO:+0100
TZNAME:CET
DTSTART:20231029T010000
END:STANDARD
END:VTIMEZONE
BEGIN:VEVENT
DTSTART;TZID=Europe/Paris:20230915T183000
DTEND;TZID=Europe/Paris:20230915T210000
DTSTAMP:20260420T082134
CREATED:20210726T091111Z
LAST-MODIFIED:20230915T101430Z
UID:1696-1694802600-1694811600@tauchschule-walter.com
SUMMARY:SK-Nachttauchen
DESCRIPTION:In dem i.a.c. Spezialkurs Nachttauchen lernst du die spezifischen Fähigkeiten\, die für das Tauchen in einer dunklen Unterwasserwelt nötig sind. \nVoraussetzungen:\n– Nachweis von einem OWD/CMAS* Brevet\n– Mind. 12 Jahre alt\n– Nachweis über den Gesundheitszustand\n– ausreichende Kenntnisse in der Navigation \nTheoretische Ausbildung:\n– Auswahl und Bewertung von Tauchplätzen\n– Planung und Vorbereitung\n– Ausrüstung\, insbesondere Lampentechnik\n– Veränderte Bedingungen bei Nachttauchgängen\n– Sicherheitsvorkehrungen & Notfallplan\n– Tauchgänge vom Boot aus\n– Hilfsmittel für die UW-Orientierung\n– Biologische Besonderheiten\n– Gewässerschutz \nPraktische Ausbildung:\n– Auswahl des Tauchplatzes\, Uferverhältnisse\n– Planung vor Ort\n– Sicherheitsvorkehrungen\n– Orientierung (Kompass\, Gelände\, Mond\, Lichtsignale)
URL:https://tauchschule-walter.com/event/sk-nachttauchen-2/
LOCATION:Tauchschule Walter\, Johannesstrasse 107\, Bottrop\, 46238\, Deutschland
END:VEVENT
BEGIN:VEVENT
DTSTART;VALUE=DATE:20230916
DTEND;VALUE=DATE:20230918
DTSTAMP:20260420T082134
CREATED:20200105T183540Z
LAST-MODIFIED:20230725T123832Z
UID:448-1694822400-1694995199@tauchschule-walter.com
SUMMARY:Crossover Seminar TL*/TL**
DESCRIPTION:Das Crossover Seminar vom i.a.c. bietet ausgebildete Tauchlehrer anderer Organisationen die Möglichkeit zum Quereinstieg in das i.a.c. System. Die nach dem Crossover stattfindende Einstufung zu den verschiedenen Tauchlehrerstufen\, erfolgt in erster Linie anhand der nachgewiesenen Kenntnisse\, Fertigkeiten und Kompetenzen. Ansprüche auf die Einstufung zu einer bestimmten Leistungsstufe als Tauchlehrer können nicht geltend gemacht werden.
URL:https://tauchschule-walter.com/event/crossover-seminar-tl-tl-2/
LOCATION:Tauchschule Walter\, Johannesstrasse 107\, Bottrop\, 46238\, Deutschland
CATEGORIES:Crossover Seminar TL*/TL**
ORGANIZER;CN="Andreas Walter":MAILTO:info@tauchschule-walter.de
END:VEVENT
BEGIN:VEVENT
DTSTART;TZID=Europe/Paris:20230918T183000
DTEND;TZID=Europe/Paris:20230918T210000
DTSTAMP:20260420T082134
CREATED:20200105T181541Z
LAST-MODIFIED:20230915T101545Z
UID:913-1695061800-1695070800@tauchschule-walter.com
SUMMARY:Beginnerkurs OWD / CMAS*
DESCRIPTION:Alles beginnt mit dem Anfängerkurs\, wie z. B. dem Open Water Diver oder dem CMAS* Kurs. Hier lernst du alle wichtigen Grundbegriffe und Regeln rund um das Tauchen. Dazu gehören unter anderem folgende Punkte:\n„Was gehört zu einer Tauchausrüstung und wie wird diese benutzt?\n„Was muss man vor und nach dem Tauchen beachten?“\n„Wie verständige ich mich unter Wasser?“
URL:https://tauchschule-walter.com/event/beginnerkurs-owd-cmas-2/
LOCATION:Tauchschule Walter\, Johannesstrasse 107\, Bottrop\, 46238\, Deutschland
CATEGORIES:Beginnerkurs OWD / CMAS*
ORGANIZER;CN="Andreas Walter":MAILTO:info@tauchschule-walter.de
END:VEVENT
BEGIN:VEVENT
DTSTART;TZID=Europe/Paris:20230922T180000
DTEND;TZID=Europe/Paris:20230922T210000
DTSTAMP:20260420T082134
CREATED:20200105T182629Z
LAST-MODIFIED:20230915T101724Z
UID:437-1695405600-1695416400@tauchschule-walter.com
SUMMARY:Advanced Nitrox Kurs
DESCRIPTION:Der CMAS Nitrox**/i.a.c. Nitrox Advanced Diver ist der erste Schritt ins technische Tauchen. Der Teilnehmer lernt den sicheren Gaswechsel unter Wasser auf Bottom- und Dekomix und die Verwendung von hochprozentigen Nitrox-Gemischen oder reinem Sauerstoff als Deko-Gas. Dabei liegt der besondere Schwerpunkt wären der min. 5 Tauchgängen in der sicheren Handhabung der Zusatzausrüstung wie Stageflasche\, Boje und Reel\, sowie der richtigen Konfiguration und Anordnung der gesamten Tauchausrüstung. Voraussetzungen zur Teilnahme am Kurs ist CMAS*** Taucher/Dive Leader/ PADI Rescue o. äquivalent\, 18 Jahre alt und Nitrox* Basic\, sowie eine gültige TTU.
URL:https://tauchschule-walter.com/event/advanced-nitrox-kurs/
LOCATION:Tauchschule Walter\, Johannesstrasse 107\, Bottrop\, 46238\, Deutschland
CATEGORIES:Advanced Nitrox Kurs
END:VEVENT
BEGIN:VEVENT
DTSTART;TZID=Europe/Paris:20230925T183000
DTEND;TZID=Europe/Paris:20230925T210000
DTSTAMP:20260420T082134
CREATED:20210228T174905Z
LAST-MODIFIED:20230915T101814Z
UID:1354-1695666600-1695675600@tauchschule-walter.com
SUMMARY:AOWD / CMAS** Kurs
DESCRIPTION:Der AOWD ist nach deinem Open Water Diver / CMAS* die ideale Weiterbildung zum fortgeschrittenen Taucher. Die in diesem Kurs enthaltenen Spezialbrevets: * Orientierung * Tieftauchen und einem weiteren SK nach Wahl. Mit dem AOWD schlägst du zwei Fliegen mit einer Klappe: Du weist dich als fortgeschrittener Taucher aus und du hast die erste Hürde zum Master Diver oder CMAS** absolviert.
URL:https://tauchschule-walter.com/event/aowd-cmas/
LOCATION:Tauchschule Walter\, Johannesstrasse 107\, Bottrop\, 46238\, Deutschland
CATEGORIES:AOWD / CMAS** Kurs
ORGANIZER;CN="Andreas Walter":MAILTO:info@tauchschule-walter.de
END:VEVENT
BEGIN:VEVENT
DTSTART;TZID=Europe/Paris:20230927T183000
DTEND;TZID=Europe/Paris:20230927T210000
DTSTAMP:20260420T082134
CREATED:20200105T182123Z
LAST-MODIFIED:20230915T101509Z
UID:1339-1695839400-1695848400@tauchschule-walter.com
SUMMARY:Nitrox Basic / CMAS Nitrox*
DESCRIPTION:Damit du mit Nitrox bis 40% O2 tauchen darfst\, absolvierst du dieser Spezialkurs. Du lernst die Grundlagen\, wie du mit Sauerstoff umzugehen hast\, welche Grenzen und Gefahren es gibt\, wie du eine Luftanalyse durchführst\, welche technischen Voraussetzungen du beachten solltest und wie man mit Nitrox taucht.
URL:https://tauchschule-walter.com/event/nitrox-basic-cmas-nitrox-2-2-2-4/
LOCATION:Tauchschule Walter\, Johannesstrasse 107\, Bottrop\, 46238\, Deutschland
CATEGORIES:Nitrox Basic / CMAS Nitrox*
ORGANIZER;CN="Andreas Walter":MAILTO:info@tauchschule-walter.de
END:VEVENT
BEGIN:VEVENT
DTSTART;TZID=Europe/Paris:20230929T180000
DTEND;TZID=Europe/Paris:20230929T210000
DTSTAMP:20260420T082134
CREATED:20200105T181055Z
LAST-MODIFIED:20230915T101913Z
UID:895-1696010400-1696021200@tauchschule-walter.com
SUMMARY:Dive Leader / CMAS*** Kurs
DESCRIPTION:Der CMAS*** oder der i.a.c.-Dive Leader ist die höchste Stufe als Sporttaucher und das “Sprungbrett” zum Tauchlehrer. Diese Ausbildungsstufe berechtigt zum Tauchen mit Beginnern. Daher übernimmst du mit dem Dive Leader bereits ein hohes Maß an Verantwortung und du bist ein Bindeglied zwischen Tauchlehrer und Tauchschüler. Um diese Qualifikation zu erreichen sind der Spezialkurs Tauchsicherheit + Rettung und Nachttauchen erforderlich.
URL:https://tauchschule-walter.com/event/dive-leader-cmas-kurs-2/
LOCATION:Tauchschule Walter\, Johannesstrasse 107\, Bottrop\, 46238\, Deutschland
CATEGORIES:Dive Leader / CMAS*** Kurs
END:VEVENT
END:VCALENDAR