BEGIN:VCALENDAR
VERSION:2.0
PRODID:-//Tauchschule Walter - ECPv6.11.2.1//NONSGML v1.0//EN
CALSCALE:GREGORIAN
METHOD:PUBLISH
X-ORIGINAL-URL:https://tauchschule-walter.com
X-WR-CALDESC:Veranstaltungen für Tauchschule Walter
REFRESH-INTERVAL;VALUE=DURATION:PT1H
X-Robots-Tag:noindex
X-PUBLISHED-TTL:PT1H
BEGIN:VTIMEZONE
TZID:Europe/Paris
BEGIN:DAYLIGHT
TZOFFSETFROM:+0100
TZOFFSETTO:+0200
TZNAME:CEST
DTSTART:20230326T010000
END:DAYLIGHT
BEGIN:STANDARD
TZOFFSETFROM:+0200
TZOFFSETTO:+0100
TZNAME:CET
DTSTART:20231029T010000
END:STANDARD
END:VTIMEZONE
BEGIN:VEVENT
DTSTART;TZID=Europe/Paris:20230706T183000
DTEND;TZID=Europe/Paris:20230706T210000
DTSTAMP:20260420T114834
CREATED:20200105T182123Z
LAST-MODIFIED:20230613T143732Z
UID:1637-1688668200-1688677200@tauchschule-walter.com
SUMMARY:Nitrox Basic / CMAS Nitrox*
DESCRIPTION:Damit du mit Nitrox bis 40% O2 tauchen darfst\, absolvierst du dieser Spezialkurs. Du lernst die Grundlagen\, wie du mit Sauerstoff umzugehen hast\, welche Grenzen und Gefahren es gibt\, wie du eine Luftanalyse durchführst\, welche technischen Voraussetzungen du beachten solltest und wie man mit Nitrox taucht.
URL:https://tauchschule-walter.com/event/nitrox-basic-cmas-nitrox-2-2-2-3-2/
LOCATION:Tauchschule Walter\, Johannesstrasse 107\, Bottrop\, 46238\, Deutschland
CATEGORIES:Nitrox Basic / CMAS Nitrox*
ORGANIZER;CN="Andreas Walter":MAILTO:info@tauchschule-walter.de
END:VEVENT
BEGIN:VEVENT
DTSTART;TZID=Europe/Paris:20230720T183000
DTEND;TZID=Europe/Paris:20230720T210000
DTSTAMP:20260420T114835
CREATED:20210726T091111Z
LAST-MODIFIED:20230725T123340Z
UID:1619-1689877800-1689886800@tauchschule-walter.com
SUMMARY:SK-Nachttauchen
DESCRIPTION:In dem i.a.c. Spezialkurs Nachttauchen lernst du die spezifischen Fähigkeiten\, die für das Tauchen in einer dunklen Unterwasserwelt nötig sind.  \nVoraussetzungen:\n– Nachweis von einem OWD/CMAS* Bevet\n– Mind. 12 Jahre alt\n– Nachweis über den Gesundheitszustand\n– ausreichende Kenntnisse in der Navigation \nTheoretische Ausbildung:\n– Auswahl und Bewertung von Tauchplätzen\n– Planung und Vorbereitung\n– Ausrüstung\, insbesondere Lampentechnik\n– Veränderte Bedingungen bei Nachttauchgängen\n– Sicherheitsvorkehrungen & Notfallplan\n– Tauchgänge vom Boot aus\n– Hilfsmittel für die UW-Orientierung\n– Biologische Besonderheiten\n– Gewässerschutz \nPraktische Ausbildung:\n– Auswahl des Tauchplatzes\, Uferverhältnisse\n– Planung vor Ort\n– Sicherheitsvorkehrungen\n– Orientierung (Kompass\, Gelände\, Mond\, Lichtsignale)\n– Besonderheiten beim Tauchen vom Boot
URL:https://tauchschule-walter.com/event/sk-nachttauchen/
LOCATION:Tauchschule Walter\, Johannesstrasse 107\, Bottrop\, 46238\, Deutschland
END:VEVENT
BEGIN:VEVENT
DTSTART;TZID=Europe/Paris:20230721T180000
DTEND;TZID=Europe/Paris:20230721T210000
DTSTAMP:20260420T114835
CREATED:20200105T182629Z
LAST-MODIFIED:20230613T144119Z
UID:897-1689962400-1689973200@tauchschule-walter.com
SUMMARY:Advanced Nitrox Kurs
DESCRIPTION:Der CMAS Nitrox**/i.a.c. Nitrox Advanced Diver ist der erste Schritt ins technische Tauchen. Der Teilnehmer lernt den sicheren Gaswechsel unter Wasser auf Bottom- und Dekomix und die Verwendung von hochprozentigen Nitrox-Gemischen oder reinem Sauerstoff als Deko-Gas. Dabei liegt der besondere Schwerpunkt wären der min. 5 Tauchgängen in der sicheren Handhabung der Zusatzausrüstung wie Stageflasche\, Boje und Reel\, sowie der richtigen Konfiguration und Anordnung der gesamten Tauchausrüstung. Voraussetzungen zur Teilnahme am Kurs ist CMAS*** Taucher/Dive Leader/ PADI Rescue o. äquivalent\, 18 Jahre alt und Nitrox* Basic\, sowie eine gültige TTU.
URL:https://tauchschule-walter.com/event/advanced-nitrox-kurs-2/
LOCATION:Tauchschule Walter\, Johannesstrasse 107\, Bottrop\, 46238\, Deutschland
CATEGORIES:Advanced Nitrox Kurs
END:VEVENT
BEGIN:VEVENT
DTSTART;VALUE=DATE:20230722
DTEND;VALUE=DATE:20230724
DTSTAMP:20260420T114835
CREATED:20200105T183540Z
LAST-MODIFIED:20230613T144905Z
UID:1362-1689984000-1690156799@tauchschule-walter.com
SUMMARY:Crossover Seminar TL*/TL**
DESCRIPTION:Das Crossover Seminar vom i.a.c. bietet ausgebildete Tauchlehrer anderer Organisationen die Möglichkeit zum Quereinstieg in das i.a.c. System. Die nach dem Crossover stattfindende Einstufung zu den verschiedenen Tauchlehrerstufen\, erfolgt in erster Linie anhand der nachgewiesenen Kenntnisse\, Fertigkeiten und Kompetenzen. Ansprüche auf die Einstufung zu einer bestimmten Leistungsstufe als Tauchlehrer können nicht geltend gemacht werden.
URL:https://tauchschule-walter.com/event/crossover-seminar-tl-tl-2-6/
LOCATION:Tauchschule Walter\, Johannesstrasse 107\, Bottrop\, 46238\, Deutschland
CATEGORIES:Crossover Seminar TL*/TL**
ORGANIZER;CN="Andreas Walter":MAILTO:info@tauchschule-walter.de
END:VEVENT
BEGIN:VEVENT
DTSTART;TZID=Europe/Paris:20230725T183000
DTEND;TZID=Europe/Paris:20230725T213000
DTSTAMP:20260420T114835
CREATED:20200203T131230Z
LAST-MODIFIED:20230613T144010Z
UID:909-1690309800-1690320600@tauchschule-walter.com
SUMMARY:HLW / O2 Kurs
DESCRIPTION:Der HLW/O2 Kurs ist der Einführungskurs in die Tauchrettung. In diesem Kurs lernst du die wichtigsten Dinge der Erstversorgung und wie du rasch in einem Notfall helfen kannst. Außerdem wird der Gebrauch von Notfallkoffern und Sauerstoffsystemen erklärt.
URL:https://tauchschule-walter.com/event/hlw-o2-kurs-2/
LOCATION:Tauchschule Walter\, Johannesstrasse 107\, Bottrop\, 46238\, Deutschland
CATEGORIES:HLW / O2 Kurs
ORGANIZER;CN="Andreas Walter":MAILTO:info@tauchschule-walter.de
END:VEVENT
BEGIN:VEVENT
DTSTART;TZID=Europe/Paris:20230728T180000
DTEND;TZID=Europe/Paris:20230728T210000
DTSTAMP:20260420T114835
CREATED:20200105T181055Z
LAST-MODIFIED:20230511T130219Z
UID:1636-1690567200-1690578000@tauchschule-walter.com
SUMMARY:Dive Leader / CMAS*** Kurs
DESCRIPTION:Der CMAS*** oder der i.a.c.-Dive Leader ist die höchste Stufe als Sporttaucher und das “Sprungbrett” zum Tauchlehrer. Diese Ausbildungsstufe berechtigt zum Tauchen mit Beginnern. Daher übernimmst du mit dem Dive Leader bereits ein hohes Maß an Verantwortung und du bist ein Bindeglied zwischen Tauchlehrer und Tauchschüler. Um diese Qualifikation zu erreichen sind der Spezialkurs Tauchsicherheit + Rettung und Nachttauchen erforderlich.
URL:https://tauchschule-walter.com/event/dive-leader-cmas-kurs-2-2-2/
LOCATION:Tauchschule Walter\, Johannesstrasse 107\, Bottrop\, 46238\, Deutschland
CATEGORIES:Dive Leader / CMAS*** Kurs
END:VEVENT
END:VCALENDAR