BEGIN:VCALENDAR
VERSION:2.0
PRODID:-//Tauchschule Walter - ECPv6.11.2.1//NONSGML v1.0//EN
CALSCALE:GREGORIAN
METHOD:PUBLISH
X-ORIGINAL-URL:https://tauchschule-walter.com
X-WR-CALDESC:Veranstaltungen für Tauchschule Walter
REFRESH-INTERVAL;VALUE=DURATION:PT1H
X-Robots-Tag:noindex
X-PUBLISHED-TTL:PT1H
BEGIN:VTIMEZONE
TZID:Europe/Paris
BEGIN:DAYLIGHT
TZOFFSETFROM:+0100
TZOFFSETTO:+0200
TZNAME:CEST
DTSTART:20230326T010000
END:DAYLIGHT
BEGIN:STANDARD
TZOFFSETFROM:+0200
TZOFFSETTO:+0100
TZNAME:CET
DTSTART:20231029T010000
END:STANDARD
END:VTIMEZONE
BEGIN:VEVENT
DTSTART;TZID=Europe/Paris:20230226T100000
DTEND;TZID=Europe/Paris:20230226T160000
DTSTAMP:20260420T201052
CREATED:20220323T202049Z
LAST-MODIFIED:20230206T145157Z
UID:1678-1677405600-1677427200@tauchschule-walter.com
SUMMARY:Schnuppertauchen
DESCRIPTION:Du möchtest etwas Neues ausprobieren?! Kein Problem! In unserem Schnupperkurs könnt Ihr die faszinierende Unterwasserwelt kennenlernen und in die Grundlagen des Tauchsports\, mit einem i.a.c. Tauchlehrer an deiner Seite ausprobieren.\nKursinhalte: Du erhältst einen Einblick in die faszinierende Welt unter Wasser. Es sind die ersten Flossenschläge unter professioneller Anleitung mit einer vollständigen Tauchausrüstung! In einer theoretischen Einführung erlernst du die wichtigsten Grundlagen des Tauchens. Druckausgleich\, Unterwasserzeichen und der Umgang mit deiner Tauchausrüstung wird dir in entspannter Atmosphäre von erfahrenen Tauchlehrer vermittelt.
URL:https://tauchschule-walter.com/event/schnuppertauchen/
LOCATION:Tauchschule Walter\, Johannesstrasse 107\, Bottrop\, 46238\, Deutschland
CATEGORIES:Schnuppertauchen / DSD
ORGANIZER;CN="Andreas Walter":MAILTO:info@tauchschule-walter.de
END:VEVENT
END:VCALENDAR