BEGIN:VCALENDAR
VERSION:2.0
PRODID:-//Tauchschule Walter - ECPv6.11.2.1//NONSGML v1.0//EN
CALSCALE:GREGORIAN
METHOD:PUBLISH
X-ORIGINAL-URL:https://tauchschule-walter.com
X-WR-CALDESC:Veranstaltungen für Tauchschule Walter
REFRESH-INTERVAL;VALUE=DURATION:PT1H
X-Robots-Tag:noindex
X-PUBLISHED-TTL:PT1H
BEGIN:VTIMEZONE
TZID:Europe/Paris
BEGIN:DAYLIGHT
TZOFFSETFROM:+0100
TZOFFSETTO:+0200
TZNAME:CEST
DTSTART:20230326T010000
END:DAYLIGHT
BEGIN:STANDARD
TZOFFSETFROM:+0200
TZOFFSETTO:+0100
TZNAME:CET
DTSTART:20231029T010000
END:STANDARD
END:VTIMEZONE
BEGIN:VEVENT
DTSTART;TZID=Europe/Paris:20231004T183000
DTEND;TZID=Europe/Paris:20231004T210000
DTSTAMP:20260420T082404
CREATED:20230613T143413Z
LAST-MODIFIED:20230915T102915Z
UID:1995-1696444200-1696453200@tauchschule-walter.com
SUMMARY:SK-Tieftauchen
DESCRIPTION:In dem Spezialkurs Tieftauchen werden dir die Inhalte des Tieftauchens vermittelt und durch gezielte praktische Übungen untermauert. Bei der Durchführung der entsprechenden Tauchgänge hast Du die Gelegenheit\, diese Kenntnisse unter Anleitung anzuwenden und entsprechende Tieftaucherfahrung zu sammeln.
URL:https://tauchschule-walter.com/event/sk-tieftauchen/
LOCATION:Tauchschule Walter\, Johannesstrasse 107\, Bottrop\, 46238\, Deutschland
ORGANIZER;CN="Andreas Walter":MAILTO:info@tauchschule-walter.de
END:VEVENT
END:VCALENDAR