BEGIN:VCALENDAR
VERSION:2.0
PRODID:-//Tauchschule Walter - ECPv6.11.2.1//NONSGML v1.0//EN
CALSCALE:GREGORIAN
METHOD:PUBLISH
X-ORIGINAL-URL:https://tauchschule-walter.com
X-WR-CALDESC:Veranstaltungen für Tauchschule Walter
REFRESH-INTERVAL;VALUE=DURATION:PT1H
X-Robots-Tag:noindex
X-PUBLISHED-TTL:PT1H
BEGIN:VTIMEZONE
TZID:Europe/Paris
BEGIN:DAYLIGHT
TZOFFSETFROM:+0100
TZOFFSETTO:+0200
TZNAME:CEST
DTSTART:20230326T010000
END:DAYLIGHT
BEGIN:STANDARD
TZOFFSETFROM:+0200
TZOFFSETTO:+0100
TZNAME:CET
DTSTART:20231029T010000
END:STANDARD
END:VTIMEZONE
BEGIN:VEVENT
DTSTART;TZID=Europe/Paris:20230927T183000
DTEND;TZID=Europe/Paris:20230927T210000
DTSTAMP:20260420T082425
CREATED:20200105T182123Z
LAST-MODIFIED:20230915T101509Z
UID:1339-1695839400-1695848400@tauchschule-walter.com
SUMMARY:Nitrox Basic / CMAS Nitrox*
DESCRIPTION:Damit du mit Nitrox bis 40% O2 tauchen darfst\, absolvierst du dieser Spezialkurs. Du lernst die Grundlagen\, wie du mit Sauerstoff umzugehen hast\, welche Grenzen und Gefahren es gibt\, wie du eine Luftanalyse durchführst\, welche technischen Voraussetzungen du beachten solltest und wie man mit Nitrox taucht.
URL:https://tauchschule-walter.com/event/nitrox-basic-cmas-nitrox-2-2-2-4/
LOCATION:Tauchschule Walter\, Johannesstrasse 107\, Bottrop\, 46238\, Deutschland
CATEGORIES:Nitrox Basic / CMAS Nitrox*
ORGANIZER;CN="Andreas Walter":MAILTO:info@tauchschule-walter.de
END:VEVENT
END:VCALENDAR