BEGIN:VCALENDAR
VERSION:2.0
PRODID:-//Tauchschule Walter - ECPv6.11.2.1//NONSGML v1.0//EN
CALSCALE:GREGORIAN
METHOD:PUBLISH
X-ORIGINAL-URL:https://tauchschule-walter.com
X-WR-CALDESC:Veranstaltungen für Tauchschule Walter
REFRESH-INTERVAL;VALUE=DURATION:PT1H
X-Robots-Tag:noindex
X-PUBLISHED-TTL:PT1H
BEGIN:VTIMEZONE
TZID:Europe/Paris
BEGIN:DAYLIGHT
TZOFFSETFROM:+0100
TZOFFSETTO:+0200
TZNAME:CEST
DTSTART:20230326T010000
END:DAYLIGHT
BEGIN:STANDARD
TZOFFSETFROM:+0200
TZOFFSETTO:+0100
TZNAME:CET
DTSTART:20231029T010000
END:STANDARD
END:VTIMEZONE
BEGIN:VEVENT
DTSTART;TZID=Europe/Paris:20230915T183000
DTEND;TZID=Europe/Paris:20230915T210000
DTSTAMP:20260420T101146
CREATED:20210726T091111Z
LAST-MODIFIED:20230915T101430Z
UID:1696-1694802600-1694811600@tauchschule-walter.com
SUMMARY:SK-Nachttauchen
DESCRIPTION:In dem i.a.c. Spezialkurs Nachttauchen lernst du die spezifischen Fähigkeiten\, die für das Tauchen in einer dunklen Unterwasserwelt nötig sind. \nVoraussetzungen:\n– Nachweis von einem OWD/CMAS* Brevet\n– Mind. 12 Jahre alt\n– Nachweis über den Gesundheitszustand\n– ausreichende Kenntnisse in der Navigation \nTheoretische Ausbildung:\n– Auswahl und Bewertung von Tauchplätzen\n– Planung und Vorbereitung\n– Ausrüstung\, insbesondere Lampentechnik\n– Veränderte Bedingungen bei Nachttauchgängen\n– Sicherheitsvorkehrungen & Notfallplan\n– Tauchgänge vom Boot aus\n– Hilfsmittel für die UW-Orientierung\n– Biologische Besonderheiten\n– Gewässerschutz \nPraktische Ausbildung:\n– Auswahl des Tauchplatzes\, Uferverhältnisse\n– Planung vor Ort\n– Sicherheitsvorkehrungen\n– Orientierung (Kompass\, Gelände\, Mond\, Lichtsignale)
URL:https://tauchschule-walter.com/event/sk-nachttauchen-2/
LOCATION:Tauchschule Walter\, Johannesstrasse 107\, Bottrop\, 46238\, Deutschland
END:VEVENT
END:VCALENDAR